BEGIN:VCALENDAR
VERSION:2.0
PRODID:-//JEFF GARVIN - ECPv6.15.20//NONSGML v1.0//EN
CALSCALE:GREGORIAN
METHOD:PUBLISH
X-WR-CALNAME:JEFF GARVIN
X-ORIGINAL-URL:https://jeffgarvinbooks.com
X-WR-CALDESC:Events for JEFF GARVIN
REFRESH-INTERVAL;VALUE=DURATION:PT1H
X-Robots-Tag:noindex
X-PUBLISHED-TTL:PT1H
BEGIN:VTIMEZONE
TZID:America/Los_Angeles
BEGIN:DAYLIGHT
TZOFFSETFROM:-0800
TZOFFSETTO:-0700
TZNAME:PDT
DTSTART:20190310T100000
END:DAYLIGHT
BEGIN:STANDARD
TZOFFSETFROM:-0700
TZOFFSETTO:-0800
TZNAME:PST
DTSTART:20191103T090000
END:STANDARD
BEGIN:DAYLIGHT
TZOFFSETFROM:-0800
TZOFFSETTO:-0700
TZNAME:PDT
DTSTART:20200308T100000
END:DAYLIGHT
BEGIN:STANDARD
TZOFFSETFROM:-0700
TZOFFSETTO:-0800
TZNAME:PST
DTSTART:20201101T090000
END:STANDARD
BEGIN:DAYLIGHT
TZOFFSETFROM:-0800
TZOFFSETTO:-0700
TZNAME:PDT
DTSTART:20210314T100000
END:DAYLIGHT
BEGIN:STANDARD
TZOFFSETFROM:-0700
TZOFFSETTO:-0800
TZNAME:PST
DTSTART:20211107T090000
END:STANDARD
END:VTIMEZONE
BEGIN:VEVENT
DTSTART;TZID=America/Los_Angeles:20201209T120000
DTEND;TZID=America/Los_Angeles:20201209T130000
DTSTAMP:20260423T114240
CREATED:20201208T203343Z
LAST-MODIFIED:20201208T230440Z
UID:3597-1607515200-1607518800@jeffgarvinbooks.com
SUMMARY:First Book: Interview with Debut Author Diana Pinguicha
DESCRIPTION:Join me Wednesday at 12pm PT/8pm GMT for a FIRST BOOK interview with debut author Diana Pinguicha on Instagram live. \nFOLLOW JEFF
URL:https://jeffgarvinbooks.com/events/first-book-interview-with-debut-author-diana-pinguicha/
CATEGORIES:First Book
ATTACH;FMTTYPE=image/jpeg:https://jeffgarvinbooks.com/wp-content/uploads/2020/12/Diana-Pinguicha-1200x676px-C.jpg
END:VEVENT
BEGIN:VEVENT
DTSTART;TZID=America/Los_Angeles:20200624T180000
DTEND;TZID=America/Los_Angeles:20200624T183000
DTSTAMP:20260423T114240
CREATED:20200521T040548Z
LAST-MODIFIED:20200624T033420Z
UID:3555-1593021600-1593023400@jeffgarvinbooks.com
SUMMARY:First Book: Interview with Debut Author Sara Hosey
DESCRIPTION:Join me 6/24/20 at 6 p.m. Pacific on Instagram Live @jeffgarvinbooks for a conversation with author Sara Hosey about her debut novel\, Iphigenia Murphy. \nFOLLOW JEFF
URL:https://jeffgarvinbooks.com/events/first-book-interview-with-debut-author-sara-hosey/
CATEGORIES:First Book
ATTACH;FMTTYPE=image/jpeg:https://jeffgarvinbooks.com/wp-content/uploads/2020/05/Sara-Hosey-1200x676px-1.jpg
END:VEVENT
BEGIN:VEVENT
DTSTART;TZID=America/Los_Angeles:20200617T180000
DTEND;TZID=America/Los_Angeles:20200617T183000
DTSTAMP:20260423T114240
CREATED:20200512T212254Z
LAST-MODIFIED:20200521T040047Z
UID:3509-1592416800-1592418600@jeffgarvinbooks.com
SUMMARY:First Book: Interview with Debut Author Cathleen Barnhart
DESCRIPTION:Join me 6/17/20 at 6 p.m. Pacific on Instagram Live @jeffgarvinbooks for a conversation with author Cathleen Barnhart about her debut novel\, THAT’S WHAT FRIENDS DO. \nFOLLOW JEFF
URL:https://jeffgarvinbooks.com/events/first-look-interview-with-debut-author-cathleen-barnhart/
LOCATION:Instagram Live\, United States
CATEGORIES:First Book
ATTACH;FMTTYPE=image/jpeg:https://jeffgarvinbooks.com/wp-content/uploads/2020/05/Cathleen-Barnhart-Banners-1200x676px-2.jpg
END:VEVENT
BEGIN:VEVENT
DTSTART;TZID=America/Los_Angeles:20200610T180000
DTEND;TZID=America/Los_Angeles:20200610T183000
DTSTAMP:20260423T114240
CREATED:20200512T211242Z
LAST-MODIFIED:20200521T040032Z
UID:3504-1591812000-1591813800@jeffgarvinbooks.com
SUMMARY:First Book: Interview with Debut Author Erin Riha
DESCRIPTION:Join me 6/10/20 at 6 p.m. Pacific on Instagram Live @jeffgarvinbooks for a conversation with author Erin Riha about her debut novel\, But for the Mountains. \nFOLLOW JEFF
URL:https://jeffgarvinbooks.com/events/first-look-interview-with-debut-author-erin-riha/
LOCATION:Instagram Live\, United States
CATEGORIES:First Book
ATTACH;FMTTYPE=image/jpeg:https://jeffgarvinbooks.com/wp-content/uploads/2020/05/Erin-Riha-Banners-1200x676px-2.jpg
END:VEVENT
BEGIN:VEVENT
DTSTART;TZID=America/Los_Angeles:20200527T180000
DTEND;TZID=America/Los_Angeles:20200527T183000
DTSTAMP:20260423T114240
CREATED:20200512T210328Z
LAST-MODIFIED:20200514T210535Z
UID:3499-1590602400-1590604200@jeffgarvinbooks.com
SUMMARY:First Book: Interview with Debut Author Kim Oclon
DESCRIPTION:Join me 5/27/20 at 6 p.m. Pacific on Instagram Live @jeffgarvinbooks for a conversation with author Kim Oclon about her debut novel\, Man Up. \nFOLLOW JEFF
URL:https://jeffgarvinbooks.com/events/first-book-interview-with-debut-author-kim-oclon/
LOCATION:Instagram Live\, United States
CATEGORIES:First Book
ATTACH;FMTTYPE=image/jpeg:https://jeffgarvinbooks.com/wp-content/uploads/2020/05/First-Book-4.2-2.jpg
END:VEVENT
BEGIN:VEVENT
DTSTART;TZID=America/Los_Angeles:20200513T180000
DTEND;TZID=America/Los_Angeles:20200513T183000
DTSTAMP:20260423T114240
CREATED:20200507T201006Z
LAST-MODIFIED:20200515T022742Z
UID:3495-1589392800-1589394600@jeffgarvinbooks.com
SUMMARY:First Book: Interview with Debut Author Risa Nyman
DESCRIPTION:“FIRST BOOK” is a new Instagram Live series in which Jeff Garvin (Symptoms of Being Human\, The Lightness of Hands) interviews debut authors. Join us 5/13/20 at 6 p.m. Pacific for a conversation with Risa Nyman about her new book\, Swallowed by a Secret.
URL:https://jeffgarvinbooks.com/events/first-book-interview-with-debut-author-risa-nyman/
CATEGORIES:First Book
ATTACH;FMTTYPE=image/jpeg:https://jeffgarvinbooks.com/wp-content/uploads/2020/05/First-Book-risa-web.jpg
END:VEVENT
END:VCALENDAR